BEGIN:VCALENDAR
VERSION:2.0
PRODID:-//Lane Cove Football Club - ECPv4.9.4//NONSGML v1.0//EN
CALSCALE:GREGORIAN
METHOD:PUBLISH
X-WR-CALNAME:Lane Cove Football Club
X-ORIGINAL-URL:https://lcfc.com.au
X-WR-CALDESC:Events for Lane Cove Football Club
BEGIN:VTIMEZONE
TZID:"Australia/Sydney"
BEGIN:STANDARD
TZOFFSETFROM:+1100
TZOFFSETTO:+1000
TZNAME:AEST
DTSTART:20210403T160000
END:STANDARD
BEGIN:DAYLIGHT
TZOFFSETFROM:+1000
TZOFFSETTO:+1100
TZNAME:AEDT
DTSTART:20211002T160000
END:DAYLIGHT
END:VTIMEZONE
BEGIN:VEVENT
DTSTART;TZID="Australia/Sydney":20210202T190000
DTEND;TZID="Australia/Sydney":20210202T203000
DTSTAMP:20210224T164048
CREATED:20210128T215052Z
LAST-MODIFIED:20210128T215128Z
UID:4031-1612292400-1612297800@lcfc.com.au
SUMMARY:LCFC MensO35/45s Pre-Season Training Commences
DESCRIPTION:
URL:https://lcfc.com.au/event/lcfc-menso35-45s-pre-season-training-commences/
LOCATION:Blackman Park\, Lloyd Rees Dr\, Lane Cove West\, NSW\, 2066\, Australia
ORGANIZER;CN="LCFC":MAILTO:admin@lcfc.com.au
END:VEVENT
BEGIN:VEVENT
DTSTART;TZID="Australia/Sydney":20210204T190000
DTEND;TZID="Australia/Sydney":20210204T203000
DTSTAMP:20210224T164048
CREATED:20210203T005023Z
LAST-MODIFIED:20210203T005023Z
UID:4042-1612465200-1612470600@lcfc.com.au
SUMMARY:LCFC Kickstart Adult Pre-Season Training
DESCRIPTION:All ‘All Age’ Players Welcome! \n
URL:https://lcfc.com.au/event/lcfc-kickstart-adult-pre-season-training/
LOCATION:Blackman Park\, Lloyd Rees Dr\, Lane Cove West\, NSW\, 2066\, Australia
END:VEVENT
BEGIN:VEVENT
DTSTART;TZID="Australia/Sydney":20210211T190000
DTEND;TZID="Australia/Sydney":20210211T203000
DTSTAMP:20210224T164048
CREATED:20210203T005158Z
LAST-MODIFIED:20210203T005158Z
UID:4044-1613070000-1613075400@lcfc.com.au
SUMMARY:LCFC Kickstart Adult Pre-Season Training
DESCRIPTION:All ‘All Age’ Players Welcome! \n
URL:https://lcfc.com.au/event/lcfc-kickstart-adult-pre-season-training-2/
LOCATION:Blackman Park\, Lloyd Rees Dr\, Lane Cove West\, NSW\, 2066\, Australia
END:VEVENT
BEGIN:VEVENT
DTSTART;TZID="Australia/Sydney":20210218T190000
DTEND;TZID="Australia/Sydney":20210218T203000
DTSTAMP:20210224T164048
CREATED:20210203T005209Z
LAST-MODIFIED:20210203T005209Z
UID:4045-1613674800-1613680200@lcfc.com.au
SUMMARY:LCFC Kickstart Adult Pre-Season Training
DESCRIPTION:All ‘All Age’ Players Welcome! \n
URL:https://lcfc.com.au/event/lcfc-kickstart-adult-pre-season-training-3/
LOCATION:Blackman Park\, Lloyd Rees Dr\, Lane Cove West\, NSW\, 2066\, Australia
END:VEVENT
BEGIN:VEVENT
DTSTART;TZID="Australia/Sydney":20210225T190000
DTEND;TZID="Australia/Sydney":20210225T203000
DTSTAMP:20210224T164048
CREATED:20210203T005224Z
LAST-MODIFIED:20210203T005224Z
UID:4046-1614279600-1614285000@lcfc.com.au
SUMMARY:LCFC Kickstart Adult Pre-Season Training
DESCRIPTION:All ‘All Age’ Players Welcome! \n
URL:https://lcfc.com.au/event/lcfc-kickstart-adult-pre-season-training-4/
LOCATION:Blackman Park\, Lloyd Rees Dr\, Lane Cove West\, NSW\, 2066\, Australia
END:VEVENT
END:VCALENDAR